BEGIN:VCALENDAR
VERSION:2.0
PRODID:-//Brecon Canoe Club - ECPv6.15.20//NONSGML v1.0//EN
CALSCALE:GREGORIAN
METHOD:PUBLISH
X-ORIGINAL-URL:https://breconcanoeclub.org.uk
X-WR-CALDESC:Events for Brecon Canoe Club
REFRESH-INTERVAL;VALUE=DURATION:PT1H
X-Robots-Tag:noindex
X-PUBLISHED-TTL:PT1H
BEGIN:VTIMEZONE
TZID:Europe/London
BEGIN:DAYLIGHT
TZOFFSETFROM:+0000
TZOFFSETTO:+0100
TZNAME:BST
DTSTART:20230326T010000
END:DAYLIGHT
BEGIN:STANDARD
TZOFFSETFROM:+0100
TZOFFSETTO:+0000
TZNAME:GMT
DTSTART:20231029T010000
END:STANDARD
BEGIN:DAYLIGHT
TZOFFSETFROM:+0000
TZOFFSETTO:+0100
TZNAME:BST
DTSTART:20240331T010000
END:DAYLIGHT
BEGIN:STANDARD
TZOFFSETFROM:+0100
TZOFFSETTO:+0000
TZNAME:GMT
DTSTART:20241027T010000
END:STANDARD
BEGIN:DAYLIGHT
TZOFFSETFROM:+0000
TZOFFSETTO:+0100
TZNAME:BST
DTSTART:20250330T010000
END:DAYLIGHT
BEGIN:STANDARD
TZOFFSETFROM:+0100
TZOFFSETTO:+0000
TZNAME:GMT
DTSTART:20251026T010000
END:STANDARD
END:VTIMEZONE
BEGIN:VEVENT
DTSTART;TZID=Europe/London:20240908T000000
DTEND;TZID=Europe/London:20240908T235959
DTSTAMP:20260424T112053
CREATED:20240904T165511Z
LAST-MODIFIED:20240908T153011Z
UID:5556-1725753600-1725839999@breconcanoeclub.org.uk
SUMMARY:8 Sep 2024 'Easier' White Water Skills & Safety at Symonds Yat (Part 2)
DESCRIPTION:CANCELLED DUE TO LOW NUMBERS \n\n\n\nPlease book places (in the usual way\, via the RSVP or ‘tickets’ buttons on the website event listing – or e-mail Steve) by midnight Thu 5th!! \n\n\n\nNB ‘Part 1’ was on 11 Aug\, but each day is stand-alone so you don’t have to have attended that one! \n\n\n\nThis is an opportunity for some of our ‘newer’ paddlers to learn some of the fundamental skills needed to paddle safely and in-control on white water\, using the ‘easy’ grade 2 rapids at Symonds Yat – and for our more experienced paddlers who’d like to join in the fun (maybe try a canoe for a change?!). \n\n\n\nWe’ll meet in the morning (after any lift-shares) at Wyedean Canoe Centre\, Symonds Yat East (not West – which is the other side of the river)\, pay for parking and launching\, then organise ourselves before paddling downriver to the rapids. Although it’s possible to return to the village for lunch\, this would be unnecessarily time-consuming\, so we’ll take packed lunches (and maybe visit the pub or ice cream stall after paddling!)\, aiming to be off the water mid-afternoon. \n\n\n\nParticipants should be prepared to get wet (you may fall in; and we may well practise deliberate swimming!) and dress accordingly – do feel free to contact us if you’re not sure what to wear or bring. \n\n\n\nFinal details will be sent later in the week to those who’ve booked places.
URL:https://breconcanoeclub.org.uk/event/8-sep-2024-easier-white-water-skills-safety-at-symonds-yat-part-2
LOCATION:Wyedean Canoe Centre\, Symonds Yat East\, Ross-On-Wye\, Herefordshire\, HR9 6JL\, United Kingdom
ORGANIZER;CN="Steve Rayner":MAILTO:chair@breconcanoeclub.org.uk
END:VEVENT
BEGIN:VEVENT
DTSTART;TZID=Europe/London:20240909T190000
DTEND;TZID=Europe/London:20240909T210000
DTSTAMP:20260424T112053
CREATED:20240904T175453Z
LAST-MODIFIED:20240916T163503Z
UID:5566-1725908400-1725915600@breconcanoeclub.org.uk
SUMMARY:Mon 9 Sep 2024 Pool Session (Polo Training)
DESCRIPTION:Our next block of Canoe Polo training sessions will start on Mon 9 Sep and will run on alternate weeks: 9\, 23 Sep\, 7\, 21 Oct. \n\n\n\nNB the first session on 9 Sep will be for our existing paddlers only; subsequent sessions will also be open to new paddlers from our ‘learn to kayak’ course. \n\n\n\nSessions will run from 7.15 to 9pm\, including a 15min ‘buffer’ at the start and finish to get equipment in and out of the pool (i.e. an hour-and-a-quarter actually in the pool). \n\n\n\nWe’re currently expecting the following players but may still have space for more\, so please let us know ASAP if you’re interested (i.e. if you’re not on the list below\, please don’t ‘get tickets’ without checking with us first) – NB those in bold have already paid: \n\n\n\n\nChris\, Fleur\, Gethyn\, Huw\, Mel\, Natalie\, Sam C\, Steve R\n\n\n\n\nThe cost of each session will be £15 but we are able to offer a discounted rate of £50 if you ‘block-book’ all 4 sessions in advance (no refunds for missed sessions) – and all existing paddlers will need to be paid-up members of the Club and of Canoe Wales (and signed-up to our Club Code of Conduct). Priority spaces will be given to block-bookings. NB this discounted rate will make it difficult for us to cover our costs\, so we will also continue to invite optional donations\, for those that feel able to contribute a little extra…
URL:https://breconcanoeclub.org.uk/event/mon-9-sep-2024-pool-session-polo-training
LOCATION:Brecon Leisure Centre\, Cerrigcochion Road\, Brecon\, Powys\, LD3 9SR\, United Kingdom
ORGANIZER;CN="Steve Rayner":MAILTO:chair@breconcanoeclub.org.uk
END:VEVENT
BEGIN:VEVENT
DTSTART;TZID=Europe/London:20240916T190000
DTEND;TZID=Europe/London:20240916T210000
DTSTAMP:20260424T112053
CREATED:20240904T180859Z
LAST-MODIFIED:20240916T100553Z
UID:5572-1726513200-1726520400@breconcanoeclub.org.uk
SUMMARY:Mon 16 Sep 2024 Pool Session (General Training) - including Learn to Kayak course
DESCRIPTION:Our next block of general training sessions will start on Mon 16 Sep and will run on alternate weeks – please ‘get tickets’ using the button on the website linking (or e-mail Steve for advice!): \n\n\n\n\n16\, 30 Sep\, 14 Oct\n\n\n\n\nSessions will run from 7.15 to 9pm\, including a 15min ‘buffer’ at the start and finish to get equipment in and out of the pool (i.e. an hour-and-a-quarter actually in the pool). \n\n\n\nWe’re currently expecting the following paddlers (those in Bold have paid) and do have space for more: \n\n\n\n\nLearn to Kayak (Youths) – Course 1: Erin\, Harrison\, Logan\n\n\n\nLearn to Kayak (Adults) – Course 1: TBC; Course 2 (Nov/Dec): Yvonne\n\n\n\nPersonalised coaching (esp. for those who need to develop their skills with rolling and support strokes or to develop their confidence with capsizing): Jodine\, Martin\, Mel\, Stefan\n\n\n\nIndependent practice: Fleur\, Mike\, Tanya (3 dates TBC from 14 Oct)\n\n\n\n\nThe cost of each session will be £15 but we are able to offer a discounted rate of £40 if you ‘block-book’ all 3 sessions in advance (no refunds for missed sessions) – and all ‘existing’ paddlers will need to be paid-up members of the Club and of Canoe Wales (and signed-up to our Club Code of Conduct). Priority spaces will be given to block-bookings. NB this discounted rate will make it difficult for us to cover our costs\, so we will also continue to invite optional donations\, for those that feel able to contribute a little extra… \n\n\n\nArrival & Changing\n\n\n\n\nPlease arrive in time to be changed and ready to enter poolside for 7.15pm.\n\n\n\nPlease wear T-shirts as well as swimwear (for warmth as well as modesty!).\n\n\n\nMake your way straight to the changing rooms – there is no need to check-in at reception.\n\n\n\nPlease wait at the changing room exits before going poolside – we’ll need to be given the ‘all-clear’ that the previous group has left before we enter.\n\n\n\nFeel free to bring your own boats & paddles – as long as they’re clean. Deposit them by the external doors in the car park before the start of the session.\n\n\n\n\nOn Poolside\n\n\n\n\nParents are welcome on poolside to help children carry boats and get kitted-up\, also to help them empty boats if required during the session (we’ll show you how!). You might even be able to help in the water\, if this is something you’d be willing to do – in which case\, come prepared with swimwear!\n\n\n\nNo outdoor shoes on poolside please.
URL:https://breconcanoeclub.org.uk/event/mon-16-sep-2024-pool-session-general-training-including-learn-to-kayak-course
LOCATION:Brecon Leisure Centre\, Cerrigcochion Road\, Brecon\, Powys\, LD3 9SR\, United Kingdom
ORGANIZER;CN="Steve Rayner":MAILTO:chair@breconcanoeclub.org.uk
END:VEVENT
BEGIN:VEVENT
DTSTART;TZID=Europe/London:20240922T000000
DTEND;TZID=Europe/London:20240922T235959
DTSTAMP:20260424T112053
CREATED:20240921T194849Z
LAST-MODIFIED:20240921T194852Z
UID:5678-1726963200-1727049599@breconcanoeclub.org.uk
SUMMARY:Sun 22 Sep 2024 CANCELLED Sea or River trip
DESCRIPTION:Sadly\, this Sunday’s trip is cancelled due to lack of interest…
URL:https://breconcanoeclub.org.uk/event/sun-22-sep-2024-cancelled-sea-or-river-trip
LOCATION:Powys
END:VEVENT
BEGIN:VEVENT
DTSTART;TZID=Europe/London:20240923T190000
DTEND;TZID=Europe/London:20240923T210000
DTSTAMP:20260424T112053
CREATED:20240921T192430Z
LAST-MODIFIED:20240923T113432Z
UID:5662-1727118000-1727125200@breconcanoeclub.org.uk
SUMMARY:Mon 23 Sep 2024 Pool Session (Polo Training)
DESCRIPTION:We’re currently expecting the following players on Monday but may still have space for more\, so please let us know ASAP if you’re interested (i.e. if you’re not on the list below\, please don’t ‘get tickets’ without checking with us first) – NB those in bold have already paid: \n\n\n\n\nChris\, Dave\, Ele\, Fleur\, Gethyn\, Harrison\, Huw\, Jodine\, Logan\, Mel\, Natalie\, Sam C\, Stefan\, Steve R\n\n\n\n\nThe cost of each session will be £15 but we are able to offer a discounted rate of £40 if you ‘block-book’ all 3 remaining sessions in advance (no refunds for missed sessions) – and all existing paddlers will need to be paid-up members of the Club and of Canoe Wales (and signed-up to our Club Code of Conduct). Priority spaces will be given to block-bookings. NB this discounted rate will make it difficult for us to cover our costs\, so we will also continue to invite optional donations\, for those that feel able to contribute a little extra… \n\n\n\nLogistic arrangements as per our general training sessions – see Mon 16 Sep 2024 Pool Session (General Training)
URL:https://breconcanoeclub.org.uk/event/mon-23-sep-2024-pool-session-polo-training
LOCATION:Brecon Leisure Centre\, Cerrigcochion Road\, Brecon\, Powys\, LD3 9SR\, United Kingdom
ORGANIZER;CN="Steve Rayner":MAILTO:chair@breconcanoeclub.org.uk
END:VEVENT
BEGIN:VEVENT
DTSTART;TZID=Europe/London:20240930T190000
DTEND;TZID=Europe/London:20240930T210000
DTSTAMP:20260424T112053
CREATED:20240921T201531Z
LAST-MODIFIED:20240930T121546Z
UID:5682-1727722800-1727730000@breconcanoeclub.org.uk
SUMMARY:Mon 30 Sep 2024 Pool Session (General Training) - including Learn to Kayak course
DESCRIPTION:We’re currently expecting the following paddlers (those in Bold have paid) and do have space for more: \n\n\n\n\nIndependent practice: Fleur\, Mike\, Tanya (3 dates TBC from 14 Oct)\n\n\n\nLearn to Kayak – Course 1 (led by Sam & Natalie): Erin\, Harrison\, Jodine\, Logan\n\n\n\nLearn to Kayak – Course 2 (Nov/Dec): Yvonne\n\n\n\nPersonalised coaching (esp. for those who need to develop their skills with rolling and support strokes or to develop their confidence with capsizing\, led by Steve & Dave): Gethyn\, Jas\, Martin\, Mel\, Stefan\n\n\n\n\nDetails as Mon 16 Sep 2024 Pool Session (General Training).
URL:https://breconcanoeclub.org.uk/event/mon-30-sep-2024-pool-session-general-training-including-learn-to-kayak-course
LOCATION:Brecon Leisure Centre\, Cerrigcochion Road\, Brecon\, Powys\, LD3 9SR\, United Kingdom
ORGANIZER;CN="Steve Rayner":MAILTO:chair@breconcanoeclub.org.uk
END:VEVENT
END:VCALENDAR