BEGIN:VCALENDAR
VERSION:2.0
PRODID:-//Brecon Canoe Club - ECPv6.15.20//NONSGML v1.0//EN
CALSCALE:GREGORIAN
METHOD:PUBLISH
X-ORIGINAL-URL:https://breconcanoeclub.org.uk
X-WR-CALDESC:Events for Brecon Canoe Club
REFRESH-INTERVAL;VALUE=DURATION:PT1H
X-Robots-Tag:noindex
X-PUBLISHED-TTL:PT1H
BEGIN:VTIMEZONE
TZID:Europe/London
BEGIN:DAYLIGHT
TZOFFSETFROM:+0000
TZOFFSETTO:+0100
TZNAME:BST
DTSTART:20210328T010000
END:DAYLIGHT
BEGIN:STANDARD
TZOFFSETFROM:+0100
TZOFFSETTO:+0000
TZNAME:GMT
DTSTART:20211031T010000
END:STANDARD
BEGIN:DAYLIGHT
TZOFFSETFROM:+0000
TZOFFSETTO:+0100
TZNAME:BST
DTSTART:20220327T010000
END:DAYLIGHT
BEGIN:STANDARD
TZOFFSETFROM:+0100
TZOFFSETTO:+0000
TZNAME:GMT
DTSTART:20221030T010000
END:STANDARD
BEGIN:DAYLIGHT
TZOFFSETFROM:+0000
TZOFFSETTO:+0100
TZNAME:BST
DTSTART:20230326T010000
END:DAYLIGHT
BEGIN:STANDARD
TZOFFSETFROM:+0100
TZOFFSETTO:+0000
TZNAME:GMT
DTSTART:20231029T010000
END:STANDARD
END:VTIMEZONE
BEGIN:VEVENT
DTSTART;TZID=Europe/London:20221106T000000
DTEND;TZID=Europe/London:20221106T235959
DTSTAMP:20260424T132336
CREATED:20221027T175713Z
LAST-MODIFIED:20221027T175715Z
UID:2958-1667692800-1667779199@breconcanoeclub.org.uk
SUMMARY:Sun 6 Nov 2022 Open Canoe Skills Training
DESCRIPTION:This will be a day working towards the Canoe Award (equivalent to the old 3* Canoe Award)\, aimed particularly at club members who are working towards leadership or coaching awards; but we may have space for one or two others. This is being funded by Canoe Wales so there’ll be no charge to participants. Contact Steve for more information.
URL:https://breconcanoeclub.org.uk/event/sun-6-nov-2022-open-canoe-skills-training
LOCATION:Powys
ORGANIZER;CN="Steve Rayner":MAILTO:chair@breconcanoeclub.org.uk
END:VEVENT
BEGIN:VEVENT
DTSTART;TZID=Europe/London:20221107T190000
DTEND;TZID=Europe/London:20221107T210000
DTSTAMP:20260424T132336
CREATED:20221030T102309Z
LAST-MODIFIED:20221106T195300Z
UID:3000-1667847600-1667854800@breconcanoeclub.org.uk
SUMMARY:Mon 7 Nov 2022 Pool Session (General Training)
DESCRIPTION:This will be the first week in our next block of 4 sessions on alternate weeks 7 & 21 Nov\, 5 & 19 Dec. \n\n\n\nTraining will include: \n\n\n\n\nIntroductory kayaking for beginners;\n\n\n\n‘Wet skills’ for developing kayakers – covering capsize confidence\, recovery strokes and rescues; and\n\n\n\nRolling clinics to learn\, improve or practise the art of kayak rolling\n\n\n\n\n\n\n\n\nWe are trialling a new online booking process with this block of sessions\, giving you currently 3 options for booking: \n\n\n\n\nif you have one of our new website-based membership accounts (which you’ll have received a separate e-mail about)\, you can now ‘buy tickets’ direct via PayPal for the next block of 4 pool sessions using the ‘tickets’ section below (you’ll be asked to login to your account – please try this out and let us know if you have any problems;\n\n\n\nor you can still use the ‘RSVP’ section below to ‘express interest’ in attending individual sessions or the whole block;\n\n\n\nor you can drop us an e-mail at mail@breconcanoeclub.org.uk to let us know you’d like to come along to one or more sessions (or if you have any questions!).\n\n\n\n\nNB our plan is to gradually extend and improve the direct online process once we know whether it works! \n\n\n\n\n\n\n\nArrival & Changing \n\n\n\n\nPlease arrive in time to be changed and ready to enter poolside for 7pm.\n\n\n\nPlease wear T-shirts as well as swimwear (for warmth as well as modesty!).\n\n\n\nMake your way straight to the changing rooms – there is no need to check-in at reception.\n\n\n\nPlease wait at the changing room exits before going poolside – we’ll need to be given the ‘all-clear’ that the previous group has left before we enter.\n\n\n\nFeel free to bring your own boats & paddles – as long as they’re clean. Deposit them by the external doors in the car park before the start of the session.\n\n\n\n\nOn Poolside\n\n\n\n\nParents are welcome on poolside to help children carry boats and get kitted-up\, also to help them empty boats if required during the session (we’ll show you how!). You might even be able to help in the water\, if this is something you’d be willing to do – in which case\, come prepared with swimwear!\n\n\n\nNo outdoor shoes on poolside please.
URL:https://breconcanoeclub.org.uk/event/mon-7-nov-2022-pool-session-general-training
LOCATION:Brecon Leisure Centre\, Cerrigcochion Road\, Brecon\, Powys\, LD3 9SR\, United Kingdom
ORGANIZER;CN="Steve Rayner":MAILTO:chair@breconcanoeclub.org.uk
END:VEVENT
BEGIN:VEVENT
DTSTART;TZID=Europe/London:20221113T000000
DTEND;TZID=Europe/London:20221113T235959
DTSTAMP:20260424T132336
CREATED:20220920T203040Z
LAST-MODIFIED:20220920T203355Z
UID:2886-1668297600-1668383999@breconcanoeclub.org.uk
SUMMARY:Sun 13 Nov 2022 Trip or Event
DESCRIPTION:Probably a white water trip aimed at paddlers with enough white water experience and skill to handle Grade 3 rapids (ask if you’re not sure!). \n\n\n\nDetails to follow… \n\n\n\n…but if you’re at all interested please let us know using the RSVP button below or by e-mail to the organiser (numbers may be limited\, so please book early!).
URL:https://breconcanoeclub.org.uk/event/sun-13-nov-2022-trip-or-event
LOCATION:Powys
ORGANIZER;CN="Steve Rayner":MAILTO:chair@breconcanoeclub.org.uk
END:VEVENT
BEGIN:VEVENT
DTSTART;TZID=Europe/London:20221114T190000
DTEND;TZID=Europe/London:20221114T210000
DTSTAMP:20260424T132336
CREATED:20221111T201114Z
LAST-MODIFIED:20221129T202446Z
UID:3037-1668452400-1668459600@breconcanoeclub.org.uk
SUMMARY:Mon 14 Nov 2022 Pool Session (Polo Training)
DESCRIPTION:Canoe Polo training for existing AND ASPIRING polo players – come and develop your kayaking skills through the medium of this exciting game (think 5-a-side rugby in boats – but don’t worry\, we’ll start gently!!). Training will include: \n\n\n\n\nboat handling skills;\n\n\n\nball handling skills;\n\n\n\nfitness development; and\n\n\n\ngameplay.\n\n\n\n\n\n\n\n\nWe are trialling a new online booking process with this block of sessions\, giving you currently 3 options for booking: \n\n\n\n\nif you have one of our new website-based membership accounts (which you’ll have received a separate e-mail about)\, you can now ‘buy tickets’ direct via PayPal for the next block of 3 polo sessions using the ‘tickets’ section below (you’ll be asked to login to your account – please try this out and let us know if you have any problems;\n\n\n\nor you can still use the ‘RSVP’ section below to ‘express interest’ in attending individual sessions or the whole block;\n\n\n\nor you can drop us an e-mail at mail@breconcanoeclub.org.uk to let us know you’d like to come along to one or more sessions (or if you have any questions!).\n\n\n\n\nNB our plan is to gradually extend and improve the direct online process once we know whether it works! \n\n\n\n\n\n\n\nArrival & Changing\n\n\n\n\nPlease arrive in time to be changed and ready to enter poolside for 7pm – please don’t leave it until 7pm to start getting changed!). Please wear T-shirts as well as swimwear (for warmth and safety as well as modesty).\n\n\n\nMake your way straight to the changing rooms – there is no need to check-in at reception.\n\n\n\nPlease wait at the changing room exits before going poolside – we’ll need to be given the ‘all-clear’ that the previous group has left before we enter.\n\n\n\nWe’ll provide polo boats\, paddles\, spray-decks\, buoyancy aids and helmets (as long as we have enough of the right sizes – we’ll find out on the first evening!).\n\n\n\n\nOn Poolside\n\n\n\n\nParents are welcome on poolside to help children carry boats and get kitted-up\, also to help them empty boats if required during the session (we’ll show you how!).\n\n\n\nNo outdoor shoes on poolside please.
URL:https://breconcanoeclub.org.uk/event/mon-14-nov-2022-pool-session-polo-training
LOCATION:Brecon Leisure Centre\, Cerrigcochion Road\, Brecon\, Powys\, LD3 9SR\, United Kingdom
ORGANIZER;CN="Steve Rayner":MAILTO:chair@breconcanoeclub.org.uk
END:VEVENT
BEGIN:VEVENT
DTSTART;TZID=Europe/London:20221119T120000
DTEND;TZID=Europe/London:20221119T170000
DTSTAMP:20260424T132336
CREATED:20221028T094015Z
LAST-MODIFIED:20221109T225327Z
UID:2985-1668859200-1668877200@breconcanoeclub.org.uk
SUMMARY:Sat 19 Nov 2022 Welsh Canoe Polo Indoor 4s Tournament
DESCRIPTION:Indoor tournament for our ‘beginners’ polo squad
URL:https://breconcanoeclub.org.uk/event/sat-19-nov-2022-welsh-canoe-polo-indoor-4s-tournament
LOCATION:Rhondda Sports Centre\, Gelligaled Park\, Ystrad\, Rhondda Cynon Taff\, CF41 7SY\, United Kingdom
ORGANIZER;CN="Steve Rayner":MAILTO:chair@breconcanoeclub.org.uk
END:VEVENT
BEGIN:VEVENT
DTSTART;TZID=Europe/London:20221121T190000
DTEND;TZID=Europe/London:20221121T210000
DTSTAMP:20260424T132336
CREATED:20221129T202003Z
LAST-MODIFIED:20221129T202007Z
UID:3089-1669057200-1669064400@breconcanoeclub.org.uk
SUMMARY:Mon 21 Nov 2022 Pool Session (General Training)
DESCRIPTION:Details as Mon 7 Nov 2022 Pool Session (General Training) – Brecon Canoe Club
URL:https://breconcanoeclub.org.uk/event/mon-21-nov-2022-pool-session-general-training
LOCATION:Brecon Leisure Centre\, Cerrigcochion Road\, Brecon\, Powys\, LD3 9SR\, United Kingdom
ORGANIZER;CN="Steve Rayner":MAILTO:chair@breconcanoeclub.org.uk
END:VEVENT
BEGIN:VEVENT
DTSTART;TZID=Europe/London:20221127T000000
DTEND;TZID=Europe/London:20221127T235959
DTSTAMP:20260424T132336
CREATED:20220920T203325Z
LAST-MODIFIED:20220920T203327Z
UID:2890-1669507200-1669593599@breconcanoeclub.org.uk
SUMMARY:Sun 27 Nov 2022 Trip or Event
DESCRIPTION:Probably a white water trip aimed at new and developing white water paddlers (ask if you’re not sure!). \n\n\n\nDetails to follow… \n\n\n\n…but if you’re at all interested please let us know using the RSVP button below or by e-mail to the organiser (numbers may be limited\, so please book early!).
URL:https://breconcanoeclub.org.uk/event/sun-27-nov-2022-trip-or-event
LOCATION:Powys
ORGANIZER;CN="Steve Rayner":MAILTO:chair@breconcanoeclub.org.uk
END:VEVENT
BEGIN:VEVENT
DTSTART;TZID=Europe/London:20221128T190000
DTEND;TZID=Europe/London:20221128T210000
DTSTAMP:20260424T132336
CREATED:20221129T202435Z
LAST-MODIFIED:20221129T202437Z
UID:3095-1669662000-1669669200@breconcanoeclub.org.uk
SUMMARY:Mon 28 Nov 2022 Pool Session (Polo Training)
DESCRIPTION:Details as Mon 14 Nov 2022 Pool Session (Polo Training) – Brecon Canoe Club
URL:https://breconcanoeclub.org.uk/event/mon-28-nov-2022-pool-session-polo-training
LOCATION:Brecon Leisure Centre\, Cerrigcochion Road\, Brecon\, Powys\, LD3 9SR\, United Kingdom
ORGANIZER;CN="Steve Rayner":MAILTO:chair@breconcanoeclub.org.uk
END:VEVENT
END:VCALENDAR