BEGIN:VCALENDAR
VERSION:2.0
PRODID:-//Brecon Canoe Club - ECPv6.15.20//NONSGML v1.0//EN
CALSCALE:GREGORIAN
METHOD:PUBLISH
X-WR-CALNAME:Brecon Canoe Club
X-ORIGINAL-URL:https://breconcanoeclub.org.uk
X-WR-CALDESC:Events for Brecon Canoe Club
REFRESH-INTERVAL;VALUE=DURATION:PT1H
X-Robots-Tag:noindex
X-PUBLISHED-TTL:PT1H
BEGIN:VTIMEZONE
TZID:Europe/London
BEGIN:DAYLIGHT
TZOFFSETFROM:+0000
TZOFFSETTO:+0100
TZNAME:BST
DTSTART:20210328T010000
END:DAYLIGHT
BEGIN:STANDARD
TZOFFSETFROM:+0100
TZOFFSETTO:+0000
TZNAME:GMT
DTSTART:20211031T010000
END:STANDARD
BEGIN:DAYLIGHT
TZOFFSETFROM:+0000
TZOFFSETTO:+0100
TZNAME:BST
DTSTART:20220327T010000
END:DAYLIGHT
BEGIN:STANDARD
TZOFFSETFROM:+0100
TZOFFSETTO:+0000
TZNAME:GMT
DTSTART:20221030T010000
END:STANDARD
BEGIN:DAYLIGHT
TZOFFSETFROM:+0000
TZOFFSETTO:+0100
TZNAME:BST
DTSTART:20230326T010000
END:DAYLIGHT
BEGIN:STANDARD
TZOFFSETFROM:+0100
TZOFFSETTO:+0000
TZNAME:GMT
DTSTART:20231029T010000
END:STANDARD
END:VTIMEZONE
BEGIN:VEVENT
DTSTART;TZID=Europe/London:20220905T190000
DTEND;TZID=Europe/London:20220905T210000
DTSTAMP:20260422T132204
CREATED:20220831T185952Z
LAST-MODIFIED:20220912T161234Z
UID:2767-1662404400-1662411600@breconcanoeclub.org.uk
SUMMARY:Mon 5 Sep 2022 Pool Session (Polo Training)
DESCRIPTION:***Date change – no session on 19 Oct\, extra session 31 Oct*** \n\n\n\nCanoe Polo training for existing AND ASPIRING polo players – come and develop your kayaking skills through the medium of this exciting game (think 5-a-side rugby in boats – but don’t worry\, we’ll start gently!!). Training will include: \n\n\n\nboat handling skills;ball handling skills;fitness development; andgameplay.\n\n\n\nBook now for ‘block’ of 4 sessions on alternate weeks 5 & 19 Sep\, 3\, 17 & 31 Oct (using the RSVP button below or via mail@breconcanoeclub.org.uk) – or let us know if you can only make some of the sessions. \n\n\n\nWe’re currently expecting the following players but do need you all to confirm whether you’re coming to all 4 sessions or just a few: \n\n\n\nBruno\, Daniel\, Dave J\, Edith\, Jess (tbc)\, Mike S\, Natalie\, Olly C\, Pete M\, Sam H\, Steve\, Suse\, Tanya\n\n\n\nArrival & Changing\n\n\n\nPlease arrive in time to be changed and ready to enter poolside for 7pm – please don’t leave it until 7pm to start getting changed!). Please wear T-shirts as well as swimwear (for warmth and safety as well as modesty).Make your way straight to the changing rooms – there is no need to check-in at reception.Please wait at the changing room exits before going poolside – we’ll need to be given the ‘all-clear’ that the previous group has left before we enter.We’ll provide polo boats\, paddles\, spray-decks\, buoyancy aids and helmets (as long as we have enough of the right sizes – we’ll find out on the first evening!).\n\n\n\nOn Poolside\n\n\n\nParents are welcome on poolside to help children carry boats and get kitted-up\, also to help them empty boats if required during the session (we’ll show you how!).No outdoor shoes on poolside please.
URL:https://breconcanoeclub.org.uk/event/mon-5-sep-2022-pool-session-polo-training
LOCATION:Brecon Leisure Centre\, Cerrigcochion Road\, Brecon\, Powys\, LD3 9SR\, United Kingdom
ORGANIZER;CN="Steve Rayner":MAILTO:chair@breconcanoeclub.org.uk
END:VEVENT
BEGIN:VEVENT
DTSTART;TZID=Europe/London:20220910T000000
DTEND;TZID=Europe/London:20220911T235959
DTSTAMP:20260422T132204
CREATED:20220410T131200Z
LAST-MODIFIED:20220512T115226Z
UID:2345-1662768000-1662940799@breconcanoeclub.org.uk
SUMMARY:Sat 10-Sun 11 Sep 2022 Trip or Event
DESCRIPTION:A weekend of ‘autumn’ white water on the Tryweryn and / or Dee in North Wales (subject to water conditions)\, for competent white water paddlers only! Paddlers will be responsible for transport\, accommodation and food but we’ll aim to arrange lifts and shared accommodation to suit whoever’s coming\, either camping or bunkhouse probably near Bala. \n\n\n\nDetails to follow… \n\n\n\n…but if you’re at all interested please let us know using the RSVP button below or by e-mail to the organiser (numbers may be limited\, so please book early!).
URL:https://breconcanoeclub.org.uk/event/sun-11-sep-2022-trip-or-event
LOCATION:Powys
ORGANIZER;CN="Steve Rayner":MAILTO:chair@breconcanoeclub.org.uk
END:VEVENT
BEGIN:VEVENT
DTSTART;TZID=Europe/London:20220912T190000
DTEND;TZID=Europe/London:20220912T210000
DTSTAMP:20260422T132204
CREATED:20220831T191922Z
LAST-MODIFIED:20220914T202506Z
UID:2776-1663009200-1663016400@breconcanoeclub.org.uk
SUMMARY:Mon 12 Sep 2022 Pool Session (General Training)
DESCRIPTION:Training will include: \n\n\n\nIntroductory kayaking for beginners – hopefully including some of you who attended our recent Paddlesport Taster Day;‘Wet skills’ for developing kayakers – covering capsize confidence\, recovery strokes and rescues; andRolling clinics to learn\, improve or practise the art of kayak rolling\n\n\n\nBook now for ‘block’ of 4 sessions on alternate weeks 12 & 26 Sep\, 10 & 24 Oct (using the RSVP button below or via mail@breconcanoeclub.org.uk) – or let us know if you can only make some of the sessions (priority will be given to block-bookings). \n\n\n\nWe’re currently expecting the following paddlers but have room for many more!!: \n\n\n\nAnne (from 10 Oct)\, Rhiannon\, Sam C\, Sam H\n\n\n\nArrival & Changing\n\n\n\nPlease arrive in time to be changed and ready to enter poolside for 7pm.Please wear T-shirts as well as swimwear (for warmth as well as modesty!).Make your way straight to the changing rooms – there is no need to check-in at reception.Please wait at the changing room exits before going poolside – we’ll need to be given the ‘all-clear’ that the previous group has left before we enter.Feel free to bring your own boats & paddles – as long as they’re clean. Deposit them by the external doors in the car park before the start of the session.\n\n\n\nOn Poolside\n\n\n\nParents are welcome on poolside to help children carry boats and get kitted-up\, also to help them empty boats if required during the session (we’ll show you how!). You might even be able to help in the water\, if this is something you’d be willing to do – in which case\, come prepared with swimwear!No outdoor shoes on poolside please.
URL:https://breconcanoeclub.org.uk/event/mon-12-sep-2022-pool-session-general-training
LOCATION:Brecon Leisure Centre\, Cerrigcochion Road\, Brecon\, Powys\, LD3 9SR\, United Kingdom
END:VEVENT
BEGIN:VEVENT
DTSTART;TZID=Europe/London:20220917T080000
DTEND;TZID=Europe/London:20220918T170000
DTSTAMP:20260422T132204
CREATED:20220725T113141Z
LAST-MODIFIED:20220907T120821Z
UID:2672-1663401600-1663520400@breconcanoeclub.org.uk
SUMMARY:Sat 17-Sun 18 Sep 2022 Paddlesport Instructor Course
DESCRIPTION:This is a ‘commercial’ course being run by Steve Rayner\, with the possibility of discounted places for Brecon Canoe Club Members.  \n\n\n\nThe perfect course for anyone aged 14 or over wanting to take their first steps into leading or coaching sessions in kayaks\, canoes or SUPs! \n\n\n\nParticipants need to: \n\n\n\nbe Full Members of Canoe Wales / British Canoeing (etc.);register for the Award with Canoe Wales / British Canoeing (etc.) – cost £45;have attended a British Canoeing Foundation Safety and Rescue Training (FSRT) course at least 2 weeks beforehand – such as the one running on 6 Mar; andhave personal paddling (equivalent to the former 2*-level) and rescue competence in one type of craft (kayak\, open canoe\, sit on top\, or stand up paddleboard).\n\n\n\nThe course will take place on the River Usk at Brecon Promenade and / or the canal in Brecon (depending on water conditions). \n\n\n\nWhat to Do Now\n\n\n\nContact Steve as soon as possible to book places or get more information!
URL:https://breconcanoeclub.org.uk/event/sat-17-sun-18-sep-2022-paddlesport-instructor-course
LOCATION:Powys
END:VEVENT
BEGIN:VEVENT
DTSTART;TZID=Europe/London:20220925T000000
DTEND;TZID=Europe/London:20220925T235959
DTSTAMP:20260422T132204
CREATED:20220410T131242Z
LAST-MODIFIED:20220512T115817Z
UID:2348-1664064000-1664150399@breconcanoeclub.org.uk
SUMMARY:Sun 25 Sep 2022 Trip or Event
DESCRIPTION:Possibly an estuary or coastal trip\, depending on interest. \n\n\n\nDetails to follow… \n\n\n\n…but if you’re at all interested please let us know using the RSVP button below or by e-mail to the organiser (numbers may be limited\, so please book early!).
URL:https://breconcanoeclub.org.uk/event/sun-25-sep-2022-trip-or-event
LOCATION:Powys
ORGANIZER;CN="Steve Rayner":MAILTO:chair@breconcanoeclub.org.uk
END:VEVENT
BEGIN:VEVENT
DTSTART;TZID=Europe/London:20220926T190000
DTEND;TZID=Europe/London:20220926T210000
DTSTAMP:20260422T132204
CREATED:20220919T174431Z
LAST-MODIFIED:20220919T174433Z
UID:2864-1664218800-1664226000@breconcanoeclub.org.uk
SUMMARY:Mon 26 Sep 2022 Pool Session (General Training)
DESCRIPTION:Details as Mon 12 Sep 2022 Pool Session (General Training). \n\n\n\nLet us know if you’d like to come and haven’t already booked – we have space for at least a couple more… \n\n\n\nCurrently expected: Baylis\, Daniel\, Fleur\, Lauren\, Mary S\, Mike B\, Nairi\, Oscar D-C\, Rhiannon\, Sam H
URL:https://breconcanoeclub.org.uk/event/mon-26-sep-2022-pool-session-general-training
LOCATION:Brecon Leisure Centre\, Cerrigcochion Road\, Brecon\, Powys\, LD3 9SR\, United Kingdom
ORGANIZER;CN="Steve Rayner":MAILTO:chair@breconcanoeclub.org.uk
END:VEVENT
END:VCALENDAR