BEGIN:VCALENDAR
VERSION:2.0
PRODID:-//Brecon Canoe Club - ECPv6.15.20//NONSGML v1.0//EN
CALSCALE:GREGORIAN
METHOD:PUBLISH
X-ORIGINAL-URL:https://breconcanoeclub.org.uk
X-WR-CALDESC:Events for Brecon Canoe Club
REFRESH-INTERVAL;VALUE=DURATION:PT1H
X-Robots-Tag:noindex
X-PUBLISHED-TTL:PT1H
BEGIN:VTIMEZONE
TZID:Europe/London
BEGIN:DAYLIGHT
TZOFFSETFROM:+0000
TZOFFSETTO:+0100
TZNAME:BST
DTSTART:20210328T010000
END:DAYLIGHT
BEGIN:STANDARD
TZOFFSETFROM:+0100
TZOFFSETTO:+0000
TZNAME:GMT
DTSTART:20211031T010000
END:STANDARD
BEGIN:DAYLIGHT
TZOFFSETFROM:+0000
TZOFFSETTO:+0100
TZNAME:BST
DTSTART:20220327T010000
END:DAYLIGHT
BEGIN:STANDARD
TZOFFSETFROM:+0100
TZOFFSETTO:+0000
TZNAME:GMT
DTSTART:20221030T010000
END:STANDARD
BEGIN:DAYLIGHT
TZOFFSETFROM:+0000
TZOFFSETTO:+0100
TZNAME:BST
DTSTART:20230326T010000
END:DAYLIGHT
BEGIN:STANDARD
TZOFFSETFROM:+0100
TZOFFSETTO:+0000
TZNAME:GMT
DTSTART:20231029T010000
END:STANDARD
END:VTIMEZONE
BEGIN:VEVENT
DTSTART;TZID=Europe/London:20220807T000000
DTEND;TZID=Europe/London:20220807T235959
DTSTAMP:20260424T132617
CREATED:20220410T130655Z
LAST-MODIFIED:20220707T194548Z
UID:2332-1659830400-1659916799@breconcanoeclub.org.uk
SUMMARY:Sun 7 Aug 2022 Trip or Event
DESCRIPTION:***Change of date – previously advertised as 14 Aug*** \n\n\n\nPossibly a morning at Cardiff International White Water Centre\, developing and practising white water skills [only for paddlers with some previous experience!] – if enough people are interested in this (or could be a local river trip instead!). \n\n\n\nDetails to follow… \n\n\n\n…but if you’re at all interested please let us know using the RSVP button below or by e-mail to the organiser (numbers may be limited\, so please book early!).
URL:https://breconcanoeclub.org.uk/event/sun-14-aug-2022-trip-or-event
LOCATION:Cardiff International White Water\, Watkiss Way\, Cardiff Bay\, Cardiff\, CF11 0SY\, United Kingdom
ORGANIZER;CN="Steve Rayner":MAILTO:chair@breconcanoeclub.org.uk
END:VEVENT
BEGIN:VEVENT
DTSTART;TZID=Europe/London:20220808T183000
DTEND;TZID=Europe/London:20220808T210000
DTSTAMP:20260424T132617
CREATED:20220725T130932Z
LAST-MODIFIED:20220907T120953Z
UID:2675-1659983400-1659992400@breconcanoeclub.org.uk
SUMMARY:Mon 8 Aug 2022 Summer Training
DESCRIPTION:!!!No session on Mon 1 Aug as Steve is away!!! \n\n\n\nThis will be the first week of our final block of weekly evening outdoor training this summer: \n\n\n\nBlock 1: July 4\, 11\, 18\, 25Block 2: August 8\, 15\, 22To be followed by indoor pool sessions September 5\, 12\, 19 & 26\n\n\n\nWe’re aiming to provide tailored coaching\, working loosely towards British Canoeing Personal Paddling Awards and will organise groups on the 8th once we know who’s coming! Please RSVP below if you’d like to attend all 3 sessions\, or let Steve know if you’d like to come for individual sessions.  \n\n\n\nVenue\n\n\n\nBrecon Promenade – meet by the Club’s store adjacent to the toilet block in the ‘upper’ car park (https://what3words.com/tigers.loitering.bandage) – NOT in the car park next to the river / boathouse (although some of us might end up operating from there). \n\n\n\nTimes\n\n\n\nMeet at 6.30pm\, ready in your paddling clothes. We want to have everyone kitted-up and getting on the water by 7pm\, so late arrival has quite a disruptive effect! \n\n\n\nWe’ll aim to be getting off the water around 8.15-8.30am\, before it gets dark. \n\n\n\nParents or other adults must be available at the start and end of the session to help under-18s with kit and to carry boats; and throughout the session in case they need to get off the water early. \n\n\n\nFacilities\n\n\n\nThere are no indoor changing facilities on site\, so it’s a case of changing in the car park. Toilets may be open\, but possibly only until 7pm – and they cost 20p to get in. \n\n\n\nCost\n\n\n\n£8 per session\, or £18 for 3 block-booked sessions (8\, 15\, 22 Aug – no refunds for missed sessions) – we’ll collect this by Direct Debit through our membership system. \n\n\n\nAll existing Club members must also have up-to-date membership of both the Club and Canoe Wales – we’ll send separate reminders for those of you who need these! Any new members will need to register with us but don’t need to join formally for this first block of sessions. \n\n\n\nEquipment and Clothing\n\n\n\nWe’ll provide boats\, paddles\, buoyancy aids\, helmets and spray-decks for those who need them – but if you have your own\, please bring them alongAlthough deliberate immersion isn’t always part of the plan (and even when it is\, it’s usually towards the end of the session) there’s always a chance of accidental capsize\, so kit should take account of this (and the general weather conditions).At the very least\, wear clothing layers of the type you might wear to go walking – ideally synthetic materials that stay warm and don’t get too heavy when wet. Most people wear swimwear underneath. And a waterproof jacket (to keep off the rain and mind\, rather than keep you dry if you capsize!) – we do have a limited number of canoeing cagoules\, but not enough of the right sizes for everyone.Footwear that you don’t mind getting wet\, not too large (chunky trainers don’t fit well in kayaks; neoprene wet-shoes are ideal; sandals or crocs no good as they fall off!).If you want to be assured of staying warmer if you fall in\, a wetsuit is the next step. Ones made specifically for paddling are called Long Johns (or Long Janes!) and don’t have sleeves\, for maximum mobility (worn with e.g. rash vest beneath and/or fleece above). But a standard surfing-type ‘full’ wetsuit is also fine as a starter. Again\, we do have a very limited number of wetsuits\, which you’re welcome to check-out on the first evening in case we have one that fits you…Don’t forget a towel and complete change of clothes for the end of the session\, in case you do fall in!!We’ll be sure to talk about kit on the first couple of sessions so you can get an idea of what’s out there before you commit to spending £££\, but if you do want some ideas…Good local(ish) stores to look at are Up and Under and Canoe and Kayak Store – both will offer discounts for club members on request…
URL:https://breconcanoeclub.org.uk/event/mon-8-aug-summer-training
LOCATION:Brecon Promenade\, Fenni-Fach Road\, Brecon\, Powys\, LD3 9LL\, United Kingdom
END:VEVENT
BEGIN:VEVENT
DTSTART;TZID=Europe/London:20220815T183000
DTEND;TZID=Europe/London:20220815T210000
DTSTAMP:20260424T132617
CREATED:20220725T131500Z
LAST-MODIFIED:20220907T120938Z
UID:2680-1660588200-1660597200@breconcanoeclub.org.uk
SUMMARY:Mon 15 Aug 2022 Summer Training
DESCRIPTION:Details as Mon 8 Aug 2022 Summer Training. \n\n\n\nContact the organiser to book individual sessions (if you haven’t already block-booked in advance).
URL:https://breconcanoeclub.org.uk/event/mon-15-aug-2022-summer-training
LOCATION:Brecon Promenade\, Fenni-Fach Road\, Brecon\, Powys\, LD3 9LL\, United Kingdom
END:VEVENT
BEGIN:VEVENT
DTSTART;TZID=Europe/London:20220822T183000
DTEND;TZID=Europe/London:20220822T210000
DTSTAMP:20260424T132617
CREATED:20220725T131553Z
LAST-MODIFIED:20220907T120919Z
UID:2683-1661193000-1661202000@breconcanoeclub.org.uk
SUMMARY:CANCELLED Mon 22 Aug 2022 Summer Training
DESCRIPTION:***Cancelled due to low numbers***
URL:https://breconcanoeclub.org.uk/event/mon-22-aug-2022-summer-training-2
LOCATION:Brecon Promenade\, Fenni-Fach Road\, Brecon\, Powys\, LD3 9LL\, United Kingdom
END:VEVENT
BEGIN:VEVENT
DTSTART;TZID=Europe/London:20220824T100000
DTEND;TZID=Europe/London:20220824T180000
DTSTAMP:20260424T132617
CREATED:20220725T093201Z
LAST-MODIFIED:20220808T084509Z
UID:2667-1661335200-1661364000@breconcanoeclub.org.uk
SUMMARY:Wed 24 Aug 2022 Open Day / Taster Session
DESCRIPTION:Brecon Canoe Club will be running an ‘open day’ on Wed 24 Aug where young people from our local community can come and ‘have a go’ at kayaking\, open canoeing and paddle-boarding. \n\n\n\nThere will be 3 sessions: \n\n\n\n10am-12pm1.30pm-3.30pm4pm-6pm\n\n\n\nSessions are open to anyone aged 9-25 years and will be FREE OF CHARGE (funded by The Outdoor Partnership as one of their ‘Summer of Fun’ activities) – but you must book in advance via Eventbrite using the ‘Read More and Book’ button below. \n\n\n\nAll equipment will be provided although participants should come dressed in clothes (including footwear) that they don’t mind getting wet – and should bring a complete change of clothes (and towel) for afterwards! \n\n\n\nThe usual Powys CC parking fees will apply in the car park!
URL:https://breconcanoeclub.org.uk/event/wed-24-aug-2022-open-day-taster-session
LOCATION:Brecon Promenade\, Fenni-Fach Road\, Brecon\, Powys\, LD3 9LL\, United Kingdom
ORGANIZER;CN="Steve Rayner":MAILTO:chair@breconcanoeclub.org.uk
END:VEVENT
BEGIN:VEVENT
DTSTART;TZID=Europe/London:20220827T000000
DTEND;TZID=Europe/London:20220829T235959
DTSTAMP:20260424T132617
CREATED:20220410T130739Z
LAST-MODIFIED:20220527T162024Z
UID:2335-1661558400-1661817599@breconcanoeclub.org.uk
SUMMARY:Sat 27-Mon 29 Aug 2022 Trip or Event
DESCRIPTION:A Bank Holiday camping expedition on the Wye – join us for 1 or more days\, suitable for anyone who can paddle all day in a fairly straight line! Participants will need to provide their own camping equipment and food and pay site fees etc. ‘True’ expeditioners will take all their camping gear with them\, although there will be an opportunity to transport kit by car if necessary! NB the Rayners are planning to take their dog as well\, so campsites will be dog-friendly 😉 \n\n\n\nOutline plan (subject to confirmation): \n\n\n\nSaturday: Hay-on-Wye or Whitney-on-Wye to ByecrossSunday: Byecross to HerefordMonday (bank holiday): Hereford to Hoarwithy\n\n\n\nDetails to follow… \n\n\n\n…but if you’re at all interested please let us know using the RSVP button below or by e-mail to the organiser (numbers may be limited\, so please book early!).
URL:https://breconcanoeclub.org.uk/event/sun-28-aug-2022-trip-or-event
LOCATION:Powys
ORGANIZER;CN="Steve Rayner":MAILTO:chair@breconcanoeclub.org.uk
END:VEVENT
END:VCALENDAR