BEGIN:VCALENDAR
VERSION:2.0
PRODID:-//Brecon Canoe Club - ECPv6.15.20//NONSGML v1.0//EN
CALSCALE:GREGORIAN
METHOD:PUBLISH
X-ORIGINAL-URL:https://breconcanoeclub.org.uk
X-WR-CALDESC:Events for Brecon Canoe Club
REFRESH-INTERVAL;VALUE=DURATION:PT1H
X-Robots-Tag:noindex
X-PUBLISHED-TTL:PT1H
BEGIN:VTIMEZONE
TZID:Europe/London
BEGIN:DAYLIGHT
TZOFFSETFROM:+0000
TZOFFSETTO:+0100
TZNAME:BST
DTSTART:20250330T010000
END:DAYLIGHT
BEGIN:STANDARD
TZOFFSETFROM:+0100
TZOFFSETTO:+0000
TZNAME:GMT
DTSTART:20251026T010000
END:STANDARD
BEGIN:DAYLIGHT
TZOFFSETFROM:+0000
TZOFFSETTO:+0100
TZNAME:BST
DTSTART:20260329T010000
END:DAYLIGHT
BEGIN:STANDARD
TZOFFSETFROM:+0100
TZOFFSETTO:+0000
TZNAME:GMT
DTSTART:20261025T010000
END:STANDARD
BEGIN:DAYLIGHT
TZOFFSETFROM:+0000
TZOFFSETTO:+0100
TZNAME:BST
DTSTART:20270328T010000
END:DAYLIGHT
BEGIN:STANDARD
TZOFFSETFROM:+0100
TZOFFSETTO:+0000
TZNAME:GMT
DTSTART:20271031T010000
END:STANDARD
END:VTIMEZONE
BEGIN:VEVENT
DTSTART;TZID=Europe/London:20260427T183000
DTEND;TZID=Europe/London:20260427T210000
DTSTAMP:20260425T170451
CREATED:20260424T161916Z
LAST-MODIFIED:20260424T161918Z
UID:8707-1777314600-1777323600@breconcanoeclub.org.uk
SUMMARY:Mon 27 Apr 2026 Summer Training - Social Paddle\, Polo Skills & Personal Coaching
DESCRIPTION:For our third Monday evening outdoor foray on the river at Brecon Promenade\, we again intend to offer the following (tickets now available in the usual way via the website event listing): \n\n\n\n\n‘social paddling’  – come along and join us for a gentle paddle\, probably to the rapids and back;\n\n\n\nskills training for our polo squad (if enough of them want to come) – boat handling\, fitness and ball skills (and maybe some game-play!); and\n\n\n\npersonal coaching (limited numbers\, depending on coach availability\, will run alongside the social paddle) – if you’re interested in this\, please book a ‘social paddle’ ticket and e-mail Steve to express interest in a coaching session!\n\n\n\n\nLogistic details as Mon 13 Apr 2026 Summer Training – Social Paddle\, Polo Skills & Personal Coaching. \n\n\n\nDetails for subsequent weeks to follow in due course…
URL:https://breconcanoeclub.org.uk/event/mon-27-apr-2026-summer-training-social-paddle-polo-skills-personal-coaching
LOCATION:Brecon Promenade\, Fenni-Fach Road\, Brecon\, Powys\, LD3 9LL\, United Kingdom
ORGANIZER;CN="Steve Rayner":MAILTO:chair@breconcanoeclub.org.uk
END:VEVENT
END:VCALENDAR