BEGIN:VCALENDAR
VERSION:2.0
PRODID:-//Brecon Canoe Club - ECPv6.15.20//NONSGML v1.0//EN
CALSCALE:GREGORIAN
METHOD:PUBLISH
X-WR-CALNAME:Brecon Canoe Club
X-ORIGINAL-URL:https://breconcanoeclub.org.uk
X-WR-CALDESC:Events for Brecon Canoe Club
REFRESH-INTERVAL;VALUE=DURATION:PT1H
X-Robots-Tag:noindex
X-PUBLISHED-TTL:PT1H
BEGIN:VTIMEZONE
TZID:Europe/London
BEGIN:DAYLIGHT
TZOFFSETFROM:+0000
TZOFFSETTO:+0100
TZNAME:BST
DTSTART:20250330T010000
END:DAYLIGHT
BEGIN:STANDARD
TZOFFSETFROM:+0100
TZOFFSETTO:+0000
TZNAME:GMT
DTSTART:20251026T010000
END:STANDARD
BEGIN:DAYLIGHT
TZOFFSETFROM:+0000
TZOFFSETTO:+0100
TZNAME:BST
DTSTART:20260329T010000
END:DAYLIGHT
BEGIN:STANDARD
TZOFFSETFROM:+0100
TZOFFSETTO:+0000
TZNAME:GMT
DTSTART:20261025T010000
END:STANDARD
BEGIN:DAYLIGHT
TZOFFSETFROM:+0000
TZOFFSETTO:+0100
TZNAME:BST
DTSTART:20270328T010000
END:DAYLIGHT
BEGIN:STANDARD
TZOFFSETFROM:+0100
TZOFFSETTO:+0000
TZNAME:GMT
DTSTART:20271031T010000
END:STANDARD
END:VTIMEZONE
BEGIN:VEVENT
DTSTART;TZID=Europe/London:20260308T000000
DTEND;TZID=Europe/London:20260308T235959
DTSTAMP:20260422T143406
CREATED:20260226T204541Z
LAST-MODIFIED:20260226T204543Z
UID:8506-1772928000-1773014399@breconcanoeclub.org.uk
SUMMARY:Sun 8 Mar 2026 'Easier' White Water Trip
DESCRIPTION:This trip is again aimed at anyone new to white water – as well as more experienced paddlers. You need at least to be capable of paddling in a straight line for 5 miles and have the stamina and clothing for cold weather paddling (unaccompanied under 18s welcome). Numbers will be strictly limited and priority given to our developing (rather than expert) paddlers; otherwise first come\, first served! The trip will most likely be on a stretch of the Tywi north of Llandovery\, depending on conditions and participants. Timing will be c.9am to 3pm\, with a packed lunch. Club equipment will be available to hire as usual. Get tickets in the usual way (or e-mail Steve to enquire\, even if tickets are sold out…).
URL:https://breconcanoeclub.org.uk/event/sun-8-mar-2026-easier-white-water-trip
LOCATION:Powys
ORGANIZER;CN="Steve Rayner":MAILTO:chair@breconcanoeclub.org.uk
END:VEVENT
END:VCALENDAR