BEGIN:VCALENDAR
VERSION:2.0
PRODID:-//Brecon Canoe Club - ECPv6.15.20//NONSGML v1.0//EN
CALSCALE:GREGORIAN
METHOD:PUBLISH
X-ORIGINAL-URL:https://breconcanoeclub.org.uk
X-WR-CALDESC:Events for Brecon Canoe Club
REFRESH-INTERVAL;VALUE=DURATION:PT1H
X-Robots-Tag:noindex
X-PUBLISHED-TTL:PT1H
BEGIN:VTIMEZONE
TZID:Europe/London
BEGIN:DAYLIGHT
TZOFFSETFROM:+0000
TZOFFSETTO:+0100
TZNAME:BST
DTSTART:20250330T010000
END:DAYLIGHT
BEGIN:STANDARD
TZOFFSETFROM:+0100
TZOFFSETTO:+0000
TZNAME:GMT
DTSTART:20251026T010000
END:STANDARD
BEGIN:DAYLIGHT
TZOFFSETFROM:+0000
TZOFFSETTO:+0100
TZNAME:BST
DTSTART:20260329T010000
END:DAYLIGHT
BEGIN:STANDARD
TZOFFSETFROM:+0100
TZOFFSETTO:+0000
TZNAME:GMT
DTSTART:20261025T010000
END:STANDARD
BEGIN:DAYLIGHT
TZOFFSETFROM:+0000
TZOFFSETTO:+0100
TZNAME:BST
DTSTART:20270328T010000
END:DAYLIGHT
BEGIN:STANDARD
TZOFFSETFROM:+0100
TZOFFSETTO:+0000
TZNAME:GMT
DTSTART:20271031T010000
END:STANDARD
END:VTIMEZONE
BEGIN:VEVENT
DTSTART;TZID=Europe/London:20260301T090000
DTEND;TZID=Europe/London:20260301T140000
DTSTAMP:20260420T101527
CREATED:20260226T201151Z
LAST-MODIFIED:20260301T121204Z
UID:8502-1772355600-1772373600@breconcanoeclub.org.uk
SUMMARY:Sun 1 Mar 2026 Welsh 4s Div 2 Polo tournament
DESCRIPTION:First Welsh 4s tournament for our BLUE Team (formerly known as our A Team!!!).
URL:https://breconcanoeclub.org.uk/event/sun-1-mar-2026-welsh-4s-div-2-polo-tournament
LOCATION:Rhondda Sports Centre\, Gelligaled Park\, Ystrad\, Rhondda Cynon Taff\, CF41 7SY\, United Kingdom
ORGANIZER;CN="Steve Rayner":MAILTO:chair@breconcanoeclub.org.uk
END:VEVENT
END:VCALENDAR