BEGIN:VCALENDAR
VERSION:2.0
PRODID:-//Brecon Canoe Club - ECPv6.15.20//NONSGML v1.0//EN
CALSCALE:GREGORIAN
METHOD:PUBLISH
X-WR-CALNAME:Brecon Canoe Club
X-ORIGINAL-URL:https://breconcanoeclub.org.uk
X-WR-CALDESC:Events for Brecon Canoe Club
REFRESH-INTERVAL;VALUE=DURATION:PT1H
X-Robots-Tag:noindex
X-PUBLISHED-TTL:PT1H
BEGIN:VTIMEZONE
TZID:Europe/London
BEGIN:DAYLIGHT
TZOFFSETFROM:+0000
TZOFFSETTO:+0100
TZNAME:BST
DTSTART:20240331T010000
END:DAYLIGHT
BEGIN:STANDARD
TZOFFSETFROM:+0100
TZOFFSETTO:+0000
TZNAME:GMT
DTSTART:20241027T010000
END:STANDARD
BEGIN:DAYLIGHT
TZOFFSETFROM:+0000
TZOFFSETTO:+0100
TZNAME:BST
DTSTART:20250330T010000
END:DAYLIGHT
BEGIN:STANDARD
TZOFFSETFROM:+0100
TZOFFSETTO:+0000
TZNAME:GMT
DTSTART:20251026T010000
END:STANDARD
BEGIN:DAYLIGHT
TZOFFSETFROM:+0000
TZOFFSETTO:+0100
TZNAME:BST
DTSTART:20260329T010000
END:DAYLIGHT
BEGIN:STANDARD
TZOFFSETFROM:+0100
TZOFFSETTO:+0000
TZNAME:GMT
DTSTART:20261025T010000
END:STANDARD
END:VTIMEZONE
BEGIN:VEVENT
DTSTART;TZID=Europe/London:20250126T000000
DTEND;TZID=Europe/London:20250126T235959
DTSTAMP:20260422T143411
CREATED:20250119T203012Z
LAST-MODIFIED:20250119T203124Z
UID:6488-1737849600-1737935999@breconcanoeclub.org.uk
SUMMARY:Sun 26 Jan 2025 'Easier' White Water Trip
DESCRIPTION:This will be the next of this season’s ‘easier’ white water trips – aimed at those of you new to white-water paddling (but also suitable for more experienced paddlers). \n\n\n\nNB local river levels are LOW (and no rain forecast) so we may end up travelling for this one – possibly over to the Teifi in W Wales (1.5hrs from Brecon) – if there’s nowhere suitable on the Usk or Wye. Decision to be made once we know who wants to come (we’re aware that some of us will have had a late night in Cheltenham the day before!); hence only ‘expressions of interest’ (no payments) at this stage… \n\n\n\nNumbers are limited and priority will be given to ‘new’ paddlers\, so ‘get tickets’ quickly; participants and details will be confirmed a few days before. Please ask if you’re not sure!
URL:https://breconcanoeclub.org.uk/event/sun-26-jan-2025-easier-white-water-trip
LOCATION:Powys
ORGANIZER;CN="Steve Rayner":MAILTO:chair@breconcanoeclub.org.uk
END:VEVENT
END:VCALENDAR