BEGIN:VCALENDAR
VERSION:2.0
PRODID:-//Brecon Canoe Club - ECPv6.15.20//NONSGML v1.0//EN
CALSCALE:GREGORIAN
METHOD:PUBLISH
X-ORIGINAL-URL:https://breconcanoeclub.org.uk
X-WR-CALDESC:Events for Brecon Canoe Club
REFRESH-INTERVAL;VALUE=DURATION:PT1H
X-Robots-Tag:noindex
X-PUBLISHED-TTL:PT1H
BEGIN:VTIMEZONE
TZID:Europe/London
BEGIN:DAYLIGHT
TZOFFSETFROM:+0000
TZOFFSETTO:+0100
TZNAME:BST
DTSTART:20230326T010000
END:DAYLIGHT
BEGIN:STANDARD
TZOFFSETFROM:+0100
TZOFFSETTO:+0000
TZNAME:GMT
DTSTART:20231029T010000
END:STANDARD
BEGIN:DAYLIGHT
TZOFFSETFROM:+0000
TZOFFSETTO:+0100
TZNAME:BST
DTSTART:20240331T010000
END:DAYLIGHT
BEGIN:STANDARD
TZOFFSETFROM:+0100
TZOFFSETTO:+0000
TZNAME:GMT
DTSTART:20241027T010000
END:STANDARD
BEGIN:DAYLIGHT
TZOFFSETFROM:+0000
TZOFFSETTO:+0100
TZNAME:BST
DTSTART:20250330T010000
END:DAYLIGHT
BEGIN:STANDARD
TZOFFSETFROM:+0100
TZOFFSETTO:+0000
TZNAME:GMT
DTSTART:20251026T010000
END:STANDARD
END:VTIMEZONE
BEGIN:VEVENT
DTSTART;TZID=Europe/London:20241208T000000
DTEND;TZID=Europe/London:20241208T235959
DTSTAMP:20260422T143641
CREATED:20241026T195838Z
LAST-MODIFIED:20241207T103155Z
UID:5913-1733616000-1733702399@breconcanoeclub.org.uk
SUMMARY:Sun 8 Dec 2024 'Easier' River Trip
DESCRIPTION:NB this is a departure from our usual ‘2nd Sunday harder trip’ pattern\, to fit with our ‘learn to kayak’ course. \n\n\n\nThis trip will be specifically aimed at our newest paddlers\, including those who will have just completed our 3-week ‘learn to kayak’ course in the pool. The venue will be chosen to suit those who sign-up (so please book early to help us decide) but is likely to be a section of ‘easy’ grade 1 river (most likely Usk or Wye)\, with maybe an occasional rapid (which could be walked around). Participants will need to be prepared to paddle up to 5 miles in what could be chilly conditions! Numbers are limited and priority will be given to ‘new’ paddlers\, so ‘get tickets’ quickly; participants and details will be confirmed nearer the time. Please ask if you’re not sure!
URL:https://breconcanoeclub.org.uk/event/sun-8-dec-2024-easier-river-trip
LOCATION:Powys
ORGANIZER;CN="Steve Rayner":MAILTO:chair@breconcanoeclub.org.uk
END:VEVENT
END:VCALENDAR