BEGIN:VCALENDAR
VERSION:2.0
PRODID:-//Brecon Canoe Club - ECPv6.15.20//NONSGML v1.0//EN
CALSCALE:GREGORIAN
METHOD:PUBLISH
X-WR-CALNAME:Brecon Canoe Club
X-ORIGINAL-URL:https://breconcanoeclub.org.uk
X-WR-CALDESC:Events for Brecon Canoe Club
REFRESH-INTERVAL;VALUE=DURATION:PT1H
X-Robots-Tag:noindex
X-PUBLISHED-TTL:PT1H
BEGIN:VTIMEZONE
TZID:Europe/London
BEGIN:DAYLIGHT
TZOFFSETFROM:+0000
TZOFFSETTO:+0100
TZNAME:BST
DTSTART:20230326T010000
END:DAYLIGHT
BEGIN:STANDARD
TZOFFSETFROM:+0100
TZOFFSETTO:+0000
TZNAME:GMT
DTSTART:20231029T010000
END:STANDARD
BEGIN:DAYLIGHT
TZOFFSETFROM:+0000
TZOFFSETTO:+0100
TZNAME:BST
DTSTART:20240331T010000
END:DAYLIGHT
BEGIN:STANDARD
TZOFFSETFROM:+0100
TZOFFSETTO:+0000
TZNAME:GMT
DTSTART:20241027T010000
END:STANDARD
BEGIN:DAYLIGHT
TZOFFSETFROM:+0000
TZOFFSETTO:+0100
TZNAME:BST
DTSTART:20250330T010000
END:DAYLIGHT
BEGIN:STANDARD
TZOFFSETFROM:+0100
TZOFFSETTO:+0000
TZNAME:GMT
DTSTART:20251026T010000
END:STANDARD
END:VTIMEZONE
BEGIN:VEVENT
DTSTART;TZID=Europe/London:20241202T190000
DTEND;TZID=Europe/London:20241202T210000
DTSTAMP:20260424T115601
CREATED:20241024T202832Z
LAST-MODIFIED:20241202T225228Z
UID:5877-1733166000-1733173200@breconcanoeclub.org.uk
SUMMARY:Mon 2 Dec 2024 Pool Session (General Training) - including Learn to Kayak course
DESCRIPTION:We’re currently expecting the following paddlers (those in Bold have paid) and do have space for more (drop us an e-mail to check!): \n\n\n\n\nLearn to Kayak (Youths) – Course 2 (4 Nov-2 Dec): Alex\n\n\n\nLearn to Kayak (Adults) – Course 2: (4 Nov-2 Dec): Ceri\, Yvonne\n\n\n\nPersonalised coaching (esp. for those who need to develop their skills with rolling and support strokes or to develop their confidence with capsizing): Anne\, Ben\, Erin\, Gethyn\, Glyn\, Harrison\, Jodine\, Logan\, Mark\, Mel\, Pat\, Rohn\, Wayne\n\n\n\nIndependent practice: Mike\, Tanya (3 dates TBC)\n\n\n\n\nDetails as Mon 4 Nov 2024 Pool Session (General Training) – including Learn to Kayak course
URL:https://breconcanoeclub.org.uk/event/mon-2-dec-2024-pool-session-general-training-including-learn-to-kayak-course
LOCATION:Brecon Leisure Centre\, Cerrigcochion Road\, Brecon\, Powys\, LD3 9SR\, United Kingdom
ORGANIZER;CN="Steve Rayner":MAILTO:chair@breconcanoeclub.org.uk
END:VEVENT
END:VCALENDAR