BEGIN:VCALENDAR
VERSION:2.0
PRODID:-//Brecon Canoe Club - ECPv6.15.20//NONSGML v1.0//EN
CALSCALE:GREGORIAN
METHOD:PUBLISH
X-ORIGINAL-URL:https://breconcanoeclub.org.uk
X-WR-CALDESC:Events for Brecon Canoe Club
REFRESH-INTERVAL;VALUE=DURATION:PT1H
X-Robots-Tag:noindex
X-PUBLISHED-TTL:PT1H
BEGIN:VTIMEZONE
TZID:Europe/London
BEGIN:DAYLIGHT
TZOFFSETFROM:+0000
TZOFFSETTO:+0100
TZNAME:BST
DTSTART:20230326T010000
END:DAYLIGHT
BEGIN:STANDARD
TZOFFSETFROM:+0100
TZOFFSETTO:+0000
TZNAME:GMT
DTSTART:20231029T010000
END:STANDARD
BEGIN:DAYLIGHT
TZOFFSETFROM:+0000
TZOFFSETTO:+0100
TZNAME:BST
DTSTART:20240331T010000
END:DAYLIGHT
BEGIN:STANDARD
TZOFFSETFROM:+0100
TZOFFSETTO:+0000
TZNAME:GMT
DTSTART:20241027T010000
END:STANDARD
BEGIN:DAYLIGHT
TZOFFSETFROM:+0000
TZOFFSETTO:+0100
TZNAME:BST
DTSTART:20250330T010000
END:DAYLIGHT
BEGIN:STANDARD
TZOFFSETFROM:+0100
TZOFFSETTO:+0000
TZNAME:GMT
DTSTART:20251026T010000
END:STANDARD
END:VTIMEZONE
BEGIN:VEVENT
DTSTART;TZID=Europe/London:20241013T000000
DTEND;TZID=Europe/London:20241013T235959
DTSTAMP:20260421T141212
CREATED:20240921T202623Z
LAST-MODIFIED:20241011T191457Z
UID:5685-1728777600-1728863999@breconcanoeclub.org.uk
SUMMARY:Sun 13 Oct 2024 Winter Warm Up Trip
DESCRIPTION:This will be either: \n\n\n\n\na trip on the Wye to introduce some of our new members to moving water paddling ahead of our introductory ‘easy’ white water trips (on each fourth Sunday starting 27 Oct); or\n\n\n\na trip to Cardiff International White Water Centre\, morning session may be suitable for white water ‘novices’ who’ve been to our Symonds Yat sessions; afternoon for experienced white water paddlers only\n\n\n\n\nWhich of these we do will depend entirely on who wants to come! If enough of our new members are keen\, we’ll do the river trip; otherwise more experienced paddlers may head to Cardiff. \n\n\n\nSo\, if you’d like to join us for a ‘winter warm-up’ paddle\, please drop Steve an e-mail by midnight Mon 30 Sep with ‘expressions of interest’ or any questions you may have.
URL:https://breconcanoeclub.org.uk/event/sun-13-oct-2024-winter-warm-up-trip
LOCATION:Powys
ORGANIZER;CN="Steve Rayner":MAILTO:chair@breconcanoeclub.org.uk
END:VEVENT
END:VCALENDAR