BEGIN:VCALENDAR
VERSION:2.0
PRODID:-//Brecon Canoe Club - ECPv6.15.20//NONSGML v1.0//EN
CALSCALE:GREGORIAN
METHOD:PUBLISH
X-WR-CALNAME:Brecon Canoe Club
X-ORIGINAL-URL:https://breconcanoeclub.org.uk
X-WR-CALDESC:Events for Brecon Canoe Club
REFRESH-INTERVAL;VALUE=DURATION:PT1H
X-Robots-Tag:noindex
X-PUBLISHED-TTL:PT1H
BEGIN:VTIMEZONE
TZID:Europe/London
BEGIN:DAYLIGHT
TZOFFSETFROM:+0000
TZOFFSETTO:+0100
TZNAME:BST
DTSTART:20230326T010000
END:DAYLIGHT
BEGIN:STANDARD
TZOFFSETFROM:+0100
TZOFFSETTO:+0000
TZNAME:GMT
DTSTART:20231029T010000
END:STANDARD
BEGIN:DAYLIGHT
TZOFFSETFROM:+0000
TZOFFSETTO:+0100
TZNAME:BST
DTSTART:20240331T010000
END:DAYLIGHT
BEGIN:STANDARD
TZOFFSETFROM:+0100
TZOFFSETTO:+0000
TZNAME:GMT
DTSTART:20241027T010000
END:STANDARD
BEGIN:DAYLIGHT
TZOFFSETFROM:+0000
TZOFFSETTO:+0100
TZNAME:BST
DTSTART:20250330T010000
END:DAYLIGHT
BEGIN:STANDARD
TZOFFSETFROM:+0100
TZOFFSETTO:+0000
TZNAME:GMT
DTSTART:20251026T010000
END:STANDARD
END:VTIMEZONE
BEGIN:VEVENT
DTSTART;TZID=Europe/London:20240908T000000
DTEND;TZID=Europe/London:20240908T235959
DTSTAMP:20260424T124635
CREATED:20240904T165511Z
LAST-MODIFIED:20240908T153011Z
UID:5556-1725753600-1725839999@breconcanoeclub.org.uk
SUMMARY:8 Sep 2024 'Easier' White Water Skills & Safety at Symonds Yat (Part 2)
DESCRIPTION:CANCELLED DUE TO LOW NUMBERS \n\n\n\nPlease book places (in the usual way\, via the RSVP or ‘tickets’ buttons on the website event listing – or e-mail Steve) by midnight Thu 5th!! \n\n\n\nNB ‘Part 1’ was on 11 Aug\, but each day is stand-alone so you don’t have to have attended that one! \n\n\n\nThis is an opportunity for some of our ‘newer’ paddlers to learn some of the fundamental skills needed to paddle safely and in-control on white water\, using the ‘easy’ grade 2 rapids at Symonds Yat – and for our more experienced paddlers who’d like to join in the fun (maybe try a canoe for a change?!). \n\n\n\nWe’ll meet in the morning (after any lift-shares) at Wyedean Canoe Centre\, Symonds Yat East (not West – which is the other side of the river)\, pay for parking and launching\, then organise ourselves before paddling downriver to the rapids. Although it’s possible to return to the village for lunch\, this would be unnecessarily time-consuming\, so we’ll take packed lunches (and maybe visit the pub or ice cream stall after paddling!)\, aiming to be off the water mid-afternoon. \n\n\n\nParticipants should be prepared to get wet (you may fall in; and we may well practise deliberate swimming!) and dress accordingly – do feel free to contact us if you’re not sure what to wear or bring. \n\n\n\nFinal details will be sent later in the week to those who’ve booked places.
URL:https://breconcanoeclub.org.uk/event/8-sep-2024-easier-white-water-skills-safety-at-symonds-yat-part-2
LOCATION:Wyedean Canoe Centre\, Symonds Yat East\, Ross-On-Wye\, Herefordshire\, HR9 6JL\, United Kingdom
ORGANIZER;CN="Steve Rayner":MAILTO:chair@breconcanoeclub.org.uk
END:VEVENT
END:VCALENDAR