BEGIN:VCALENDAR
VERSION:2.0
PRODID:-//Brecon Canoe Club - ECPv6.15.20//NONSGML v1.0//EN
CALSCALE:GREGORIAN
METHOD:PUBLISH
X-WR-CALNAME:Brecon Canoe Club
X-ORIGINAL-URL:https://breconcanoeclub.org.uk
X-WR-CALDESC:Events for Brecon Canoe Club
REFRESH-INTERVAL;VALUE=DURATION:PT1H
X-Robots-Tag:noindex
X-PUBLISHED-TTL:PT1H
BEGIN:VTIMEZONE
TZID:Europe/London
BEGIN:DAYLIGHT
TZOFFSETFROM:+0000
TZOFFSETTO:+0100
TZNAME:BST
DTSTART:20210328T010000
END:DAYLIGHT
BEGIN:STANDARD
TZOFFSETFROM:+0100
TZOFFSETTO:+0000
TZNAME:GMT
DTSTART:20211031T010000
END:STANDARD
BEGIN:DAYLIGHT
TZOFFSETFROM:+0000
TZOFFSETTO:+0100
TZNAME:BST
DTSTART:20220327T010000
END:DAYLIGHT
BEGIN:STANDARD
TZOFFSETFROM:+0100
TZOFFSETTO:+0000
TZNAME:GMT
DTSTART:20221030T010000
END:STANDARD
BEGIN:DAYLIGHT
TZOFFSETFROM:+0000
TZOFFSETTO:+0100
TZNAME:BST
DTSTART:20230326T010000
END:DAYLIGHT
BEGIN:STANDARD
TZOFFSETFROM:+0100
TZOFFSETTO:+0000
TZNAME:GMT
DTSTART:20231029T010000
END:STANDARD
END:VTIMEZONE
BEGIN:VEVENT
DTSTART;TZID=Europe/London:20220917T080000
DTEND;TZID=Europe/London:20220918T170000
DTSTAMP:20260424T115828
CREATED:20220725T113141Z
LAST-MODIFIED:20220907T120821Z
UID:2672-1663401600-1663520400@breconcanoeclub.org.uk
SUMMARY:Sat 17-Sun 18 Sep 2022 Paddlesport Instructor Course
DESCRIPTION:This is a ‘commercial’ course being run by Steve Rayner\, with the possibility of discounted places for Brecon Canoe Club Members.  \n\n\n\nThe perfect course for anyone aged 14 or over wanting to take their first steps into leading or coaching sessions in kayaks\, canoes or SUPs! \n\n\n\nParticipants need to: \n\n\n\nbe Full Members of Canoe Wales / British Canoeing (etc.);register for the Award with Canoe Wales / British Canoeing (etc.) – cost £45;have attended a British Canoeing Foundation Safety and Rescue Training (FSRT) course at least 2 weeks beforehand – such as the one running on 6 Mar; andhave personal paddling (equivalent to the former 2*-level) and rescue competence in one type of craft (kayak\, open canoe\, sit on top\, or stand up paddleboard).\n\n\n\nThe course will take place on the River Usk at Brecon Promenade and / or the canal in Brecon (depending on water conditions). \n\n\n\nWhat to Do Now\n\n\n\nContact Steve as soon as possible to book places or get more information!
URL:https://breconcanoeclub.org.uk/event/sat-17-sun-18-sep-2022-paddlesport-instructor-course
LOCATION:Powys
END:VEVENT
END:VCALENDAR