BEGIN:VCALENDAR
VERSION:2.0
PRODID:-//Brecon Canoe Club - ECPv6.15.20//NONSGML v1.0//EN
CALSCALE:GREGORIAN
METHOD:PUBLISH
X-ORIGINAL-URL:https://breconcanoeclub.org.uk
X-WR-CALDESC:Events for Brecon Canoe Club
REFRESH-INTERVAL;VALUE=DURATION:PT1H
X-Robots-Tag:noindex
X-PUBLISHED-TTL:PT1H
BEGIN:VTIMEZONE
TZID:Europe/London
BEGIN:DAYLIGHT
TZOFFSETFROM:+0000
TZOFFSETTO:+0100
TZNAME:BST
DTSTART:20210328T010000
END:DAYLIGHT
BEGIN:STANDARD
TZOFFSETFROM:+0100
TZOFFSETTO:+0000
TZNAME:GMT
DTSTART:20211031T010000
END:STANDARD
BEGIN:DAYLIGHT
TZOFFSETFROM:+0000
TZOFFSETTO:+0100
TZNAME:BST
DTSTART:20220327T010000
END:DAYLIGHT
BEGIN:STANDARD
TZOFFSETFROM:+0100
TZOFFSETTO:+0000
TZNAME:GMT
DTSTART:20221030T010000
END:STANDARD
BEGIN:DAYLIGHT
TZOFFSETFROM:+0000
TZOFFSETTO:+0100
TZNAME:BST
DTSTART:20230326T010000
END:DAYLIGHT
BEGIN:STANDARD
TZOFFSETFROM:+0100
TZOFFSETTO:+0000
TZNAME:GMT
DTSTART:20231029T010000
END:STANDARD
END:VTIMEZONE
BEGIN:VEVENT
DTSTART;TZID=Europe/London:20220604T090000
DTEND;TZID=Europe/London:20220605T170000
DTSTAMP:20260422T132149
CREATED:20220511T094556Z
LAST-MODIFIED:20220511T095126Z
UID:2468-1654333200-1654448400@breconcanoeclub.org.uk
SUMMARY:Sat 4-Sun 5 Jun 2022 British Canoeing Core Coach Training
DESCRIPTION:This is an ‘external’ course being run by Steve Rayner\, with a possible hefty subsidy for Club Members! \n\n\n\nHave you ever thought about becoming a Paddlesport Coach? This 2-day course (suitable for teens and above) is a good way to start!! Contact Steve to discuss suitability and eligibility for subsidies! \n\n\n\nThe British Canoeing Coach Award is an entry point qualification which offers discipline-specific pathways across all disciplines. The Award is designed for people whose core function is to coach paddlers who want to gain/improve paddlesport skills within the discipline chosen. This will include coaching beginners new to the sport\, or paddlers looking to develop their skills in the given discipline or environment. \n\n\n\nThe Coach Award content is delivered through 2-day Core Coach Training and 2-day Discipline Specific Training (22 disciplines currently available\, including Sheltered Water Kayak and/or Canoe; White Water Kayak; White Water Canoe; and Open Water Canoe). \n\n\n\nThe two-day Core Coach Training course introduces the shared coaching content that is relevant to all coaches at this level\, exploring different approaches to coaching\, understanding and enabling learning; and some core coaching skills. It is not specific to any one discipline and will make use of a variety of craft to explore different approaches to coaching and introduce some core coaching skills. The course will be a blend of classroom and water-based activity; and you will also be supported a personal coaching development plan to enable you to take your learning into practice after the course. \n\n\n\nSubsequent Discipline Specific Training will then focus on how to coach discipline-specific technical and tactical skills\, helping coaches to plan and deliver safe\, enjoyable\, progressive coaching sessions and explore specifics to help coach typical athletes/learners relevant to the discipline. \n\n\n\nCandidates need to have: \n\n\n\nFull ‘on the water’ membership of Canoe Wales / British Canoeing (etc.); andA base level of knowledge about the discipline(s) you wish to coach.
URL:https://breconcanoeclub.org.uk/event/sat-4-sun-5-jun-2022-british-canoeing-core-coach-training
LOCATION:Llewellin Scout HQ\, Scout Lane\, Brecon\, Powys\, LD3 7DX\, United Kingdom
ORGANIZER;CN="Steve Rayner":MAILTO:chair@breconcanoeclub.org.uk
END:VEVENT
END:VCALENDAR