BEGIN:VCALENDAR
VERSION:2.0
PRODID:-//Brecon Canoe Club - ECPv6.15.20//NONSGML v1.0//EN
CALSCALE:GREGORIAN
METHOD:PUBLISH
X-WR-CALNAME:Brecon Canoe Club
X-ORIGINAL-URL:https://breconcanoeclub.org.uk
X-WR-CALDESC:Events for Brecon Canoe Club
REFRESH-INTERVAL;VALUE=DURATION:PT1H
X-Robots-Tag:noindex
X-PUBLISHED-TTL:PT1H
BEGIN:VTIMEZONE
TZID:Europe/London
BEGIN:DAYLIGHT
TZOFFSETFROM:+0000
TZOFFSETTO:+0100
TZNAME:BST
DTSTART:20200329T010000
END:DAYLIGHT
BEGIN:STANDARD
TZOFFSETFROM:+0100
TZOFFSETTO:+0000
TZNAME:GMT
DTSTART:20201025T010000
END:STANDARD
BEGIN:DAYLIGHT
TZOFFSETFROM:+0000
TZOFFSETTO:+0100
TZNAME:BST
DTSTART:20210328T010000
END:DAYLIGHT
BEGIN:STANDARD
TZOFFSETFROM:+0100
TZOFFSETTO:+0000
TZNAME:GMT
DTSTART:20211031T010000
END:STANDARD
BEGIN:DAYLIGHT
TZOFFSETFROM:+0000
TZOFFSETTO:+0100
TZNAME:BST
DTSTART:20220327T010000
END:DAYLIGHT
BEGIN:STANDARD
TZOFFSETFROM:+0100
TZOFFSETTO:+0000
TZNAME:GMT
DTSTART:20221030T010000
END:STANDARD
END:VTIMEZONE
BEGIN:VEVENT
DTSTART;TZID=Europe/London:20211130T190000
DTEND;TZID=Europe/London:20211130T200000
DTSTAMP:20260425T230859
CREATED:20211112T105520Z
LAST-MODIFIED:20211123T121836Z
UID:1928-1638298800-1638302400@breconcanoeclub.org.uk
SUMMARY:Tue 30 Nov 2021 Annual General Meeting & Awards Presentation
DESCRIPTION:Please join us online for Brecon Canoe Club’s 2021 Annual General Meeting – at which we’ll be conducting the ‘usual’ AGM formalities (presentation of accounts etc.) and… \n\n\n\npresenting our Annual Awards‘ including the prestigious ‘Paddler of the Year’ trophy;outlining the Club’s activities and plans for the coming year; andanswering any questions and listening to any suggestions you might have about the Club and its activities!\n\n\n\nAgenda\n\n\n\nWelcome & Apologies for AbsenceMinutes of the Annual General Meeting 11 January 2021 – see Brecon Canoe Club AGM Minutes 2020Summary of activities past\, present and futureReceipt of the Trustees’ Annual Report (1 Jan-30 Nov 2021) and Accounts (1 May 2020-30 Apr 2021) – see Brecon Canoe Club Annual Report and Accounts 2021Election of Trustees\, Confirmation of Officers and Advisers – Steve Rayner & Gary Williams both ‘retiring’ (as required by our constitution) and standing for re-electionAnnual Awards – Achievement Awards\, Novice Awards\, ‘Swimmer of the Year’ and ‘Paddler of the Year’Any Other Business / Q&A\n\n\n\nClick here to join the online Zoom session at 7pm on Tuesday… \n\n\n\nbut in the meantime please RSVP (using the button below or by e-mail to Steve) if you’re able to join us.
URL:https://breconcanoeclub.org.uk/event/tue-30-nov-2021-annual-general-meeting-awards-presentation
LOCATION:Powys
ORGANIZER;CN="Steve Rayner":MAILTO:chair@breconcanoeclub.org.uk
END:VEVENT
END:VCALENDAR